BEGIN:VCALENDAR
VERSION:2.0
PRODID:-//InvisionCommunity Events 5.0.18//EN
METHOD:PUBLISH
CALSCALE:GREGORIAN
REFRESH-INTERVAL:PT15M
X-PUBLISHED-TTL:PT15M
X-WR-CALNAME:Bury FC Matchday Calendar
NAME:Bury FC Matchday Calendar
BEGIN:VTIMEZONE
TZID:Europe/London
TZURL:https://tzurl.org/zoneinfo/Europe/London
X-LIC-LOCATION:Europe/London
BEGIN:DAYLIGHT
TZOFFSETFROM:+0000
TZOFFSETTO:+0100
TZNAME:BST
DTSTART:20230326T020000Z
RRULE:FREQ=YEARLY;BYMONTH=3;BYDAY=-1SU
END:DAYLIGHT
BEGIN:STANDARD
TZOFFSETFROM:+0100
TZOFFSETTO:+0000
TZNAME:GMT
DTSTART:20231029T020000Z
RRULE:FREQ=YEARLY;BYMONTH=10;BYDAY=-1SU
END:STANDARD
END:VTIMEZONE
BEGIN:VEVENT
SUMMARY:Macclesfield FC v Bury FC ***  PRE SEASON FRIENDLY  ***
DTSTAMP:20230612T120329Z
SEQUENCE:0
UID:240-1-0283a41ffe1d4594aacdbd1778843450@uptheshakers.co.uk
ORGANIZER;CN="Vinny":enquiries@uptheshakers.co.uk
DESCRIPTION:\n	\n\n
DTSTART:20230715T140000Z
DTEND:20230715T154500Z
ATTENDEE;CN="Donwatson";CUTYPE=INDIVIDUAL;PARTSTAT=ACCEPTED:
	enquiries@uptheshakers.co.uk
ATTENDEE;CN="ExitedEdgeley";CUTYPE=INDIVIDUAL;PARTSTAT=ACCEP
	TED:enquiries@uptheshakers.co.uk
ATTENDEE;CN="Gazpill";CUTYPE=INDIVIDUAL;PARTSTAT=ACCEPTED:en
	quiries@uptheshakers.co.uk
ATTENDEE;CN="PAB67";CUTYPE=INDIVIDUAL;PARTSTAT=ACCEPTED:enqu
	iries@uptheshakers.co.uk
END:VEVENT
END:VCALENDAR
