BEGIN:VCALENDAR
VERSION:2.0
PRODID:-//InvisionCommunity Events 5.0.18//EN
METHOD:PUBLISH
CALSCALE:GREGORIAN
REFRESH-INTERVAL:PT15M
X-PUBLISHED-TTL:PT15M
X-WR-CALNAME:Bury FC Matchday Calendar
NAME:Bury FC Matchday Calendar
BEGIN:VTIMEZONE
TZID:Europe/London
TZURL:https://tzurl.org/zoneinfo/Europe/London
X-LIC-LOCATION:Europe/London
BEGIN:DAYLIGHT
TZOFFSETFROM:+0000
TZOFFSETTO:+0100
TZNAME:BST
DTSTART:20240331T020000Z
RRULE:FREQ=YEARLY;BYMONTH=3;BYDAY=-1SU
END:DAYLIGHT
BEGIN:STANDARD
TZOFFSETFROM:+0100
TZOFFSETTO:+0000
TZNAME:GMT
DTSTART:20241027T020000Z
RRULE:FREQ=YEARLY;BYMONTH=10;BYDAY=-1SU
END:STANDARD
END:VTIMEZONE
BEGIN:VEVENT
SUMMARY:Bury FC v Glossop North End
DTSTAMP:20230703T131831Z
SEQUENCE:0
UID:241-1-0283a41ffe1d4594aacdbd1778843450@uptheshakers.co.uk
ORGANIZER;CN="Vinny":enquiries@uptheshakers.co.uk
DESCRIPTION:\n	NWCFL PREMIER DIVISION\n\n
DTSTART:20240224T150000Z
DTEND:20240224T164500Z
ATTENDEE;CN="Vinny";CUTYPE=INDIVIDUAL;PARTSTAT=ACCEPTED:enqu
	iries@uptheshakers.co.uk
ATTENDEE;CN="oniss";CUTYPE=INDIVIDUAL;PARTSTAT=ACCEPTED:enqu
	iries@uptheshakers.co.uk
ATTENDEE;CN="Brandlesholme";CUTYPE=INDIVIDUAL;PARTSTAT=ACCEP
	TED:enquiries@uptheshakers.co.uk
ATTENDEE;CN="Shaker429";CUTYPE=INDIVIDUAL;PARTSTAT=ACCEPTED:
	enquiries@uptheshakers.co.uk
ATTENDEE;CN="Mik";CUTYPE=INDIVIDUAL;PARTSTAT=ACCEPTED:enquir
	ies@uptheshakers.co.uk
ATTENDEE;CN="gingernut";CUTYPE=INDIVIDUAL;PARTSTAT=ACCEPTED:
	enquiries@uptheshakers.co.uk
ATTENDEE;CN="alanlondon";CUTYPE=INDIVIDUAL;PARTSTAT=ACCEPTED
	:enquiries@uptheshakers.co.uk
ATTENDEE;CN="Silverdale Shaker";CUTYPE=INDIVIDUAL;PARTSTAT=A
	CCEPTED:enquiries@uptheshakers.co.uk
ATTENDEE;CN="stevec";CUTYPE=INDIVIDUAL;PARTSTAT=ACCEPTED:enq
	uiries@uptheshakers.co.uk
ATTENDEE;CN="paul";CUTYPE=INDIVIDUAL;PARTSTAT=ACCEPTED:enqui
	ries@uptheshakers.co.uk
ATTENDEE;CN="PAB67";CUTYPE=INDIVIDUAL;PARTSTAT=ACCEPTED:enqu
	iries@uptheshakers.co.uk
ATTENDEE;CN="worzel";CUTYPE=INDIVIDUAL;PARTSTAT=ACCEPTED:enq
	uiries@uptheshakers.co.uk
ATTENDEE;CN="Donwatson";CUTYPE=INDIVIDUAL;PARTSTAT=ACCEPTED:
	enquiries@uptheshakers.co.uk
END:VEVENT
END:VCALENDAR
