BEGIN:VCALENDAR
VERSION:2.0
PRODID:-//InvisionCommunity Events 5.0.18//EN
METHOD:PUBLISH
CALSCALE:GREGORIAN
REFRESH-INTERVAL:PT15M
X-PUBLISHED-TTL:PT15M
X-WR-CALNAME:Bury FC Matchday Calendar
NAME:Bury FC Matchday Calendar
BEGIN:VTIMEZONE
TZID:Europe/London
TZURL:https://tzurl.org/zoneinfo/Europe/London
X-LIC-LOCATION:Europe/London
BEGIN:DAYLIGHT
TZOFFSETFROM:+0000
TZOFFSETTO:+0100
TZNAME:BST
DTSTART:20240331T020000Z
RRULE:FREQ=YEARLY;BYMONTH=3;BYDAY=-1SU
END:DAYLIGHT
BEGIN:STANDARD
TZOFFSETFROM:+0100
TZOFFSETTO:+0000
TZNAME:GMT
DTSTART:20241027T020000Z
RRULE:FREQ=YEARLY;BYMONTH=10;BYDAY=-1SU
END:STANDARD
END:VTIMEZONE
BEGIN:VEVENT
SUMMARY:Maghull FC v Bury FC *** GAME NOW TO BE PLAYED AT GIGG LANE 
	***
DTSTAMP:20240705T154018Z
SEQUENCE:0
UID:316-1-0283a41ffe1d4594aacdbd1778843450@uptheshakers.co.uk
ORGANIZER;CN="Vinny":enquiries@uptheshakers.co.uk
DESCRIPTION:\n	FA Vase 1st qualifying round.\n\n\n\n	  \n\n
DTSTART:20240824T140000Z
DTEND:20240824T154500Z
ATTENDEE;CN="gingernut";CUTYPE=INDIVIDUAL;PARTSTAT=ACCEPTED:
	enquiries@uptheshakers.co.uk
ATTENDEE;CN="Senior Seventies James";CUTYPE=INDIVIDUAL;PARTS
	TAT=ACCEPTED:enquiries@uptheshakers.co.uk
END:VEVENT
END:VCALENDAR
