BEGIN:VCALENDAR
VERSION:2.0
PRODID:-//InvisionCommunity Events 5.0.18//EN
METHOD:PUBLISH
CALSCALE:GREGORIAN
REFRESH-INTERVAL:PT15M
X-PUBLISHED-TTL:PT15M
X-WR-CALNAME:Bury FC Matchday Calendar
NAME:Bury FC Matchday Calendar
BEGIN:VTIMEZONE
TZID:Europe/London
TZURL:https://tzurl.org/zoneinfo/Europe/London
X-LIC-LOCATION:Europe/London
BEGIN:DAYLIGHT
TZOFFSETFROM:+0000
TZOFFSETTO:+0100
TZNAME:BST
DTSTART:20250330T020000Z
RRULE:FREQ=YEARLY;BYMONTH=3;BYDAY=-1SU
END:DAYLIGHT
BEGIN:STANDARD
TZOFFSETFROM:+0100
TZOFFSETTO:+0000
TZNAME:GMT
DTSTART:20251026T020000Z
RRULE:FREQ=YEARLY;BYMONTH=10;BYDAY=-1SU
END:STANDARD
END:VTIMEZONE
BEGIN:VEVENT
SUMMARY:Stockport Town FC v Bury FC
DTSTAMP:20240725T222348Z
SEQUENCE:0
UID:351-1-0283a41ffe1d4594aacdbd1778843450@uptheshakers.co.uk
ORGANIZER;CN="Vinny":enquiries@uptheshakers.co.uk
DESCRIPTION:\n	NWCFL PREMIER DIVISION\n\n\n\n	 \n\n\n\n	 \n\n
DTSTART:20250201T150000Z
DTEND:20250201T164500Z
ATTENDEE;CN="Nozzer";CUTYPE=INDIVIDUAL;PARTSTAT=ACCEPTED:enq
	uiries@uptheshakers.co.uk
END:VEVENT
END:VCALENDAR
